BEGIN:VCALENDAR
VERSION:2.0
PRODID:-//FGMA - ECPv6.7.1//NONSGML v1.0//EN
CALSCALE:GREGORIAN
METHOD:PUBLISH
X-ORIGINAL-URL:https://fgma.de
X-WR-CALDESC:Veranstaltungen für FGMA
REFRESH-INTERVAL;VALUE=DURATION:PT1H
X-Robots-Tag:noindex
X-PUBLISHED-TTL:PT1H
BEGIN:VTIMEZONE
TZID:Europe/Berlin
BEGIN:DAYLIGHT
TZOFFSETFROM:+0100
TZOFFSETTO:+0200
TZNAME:CEST
DTSTART:20250330T010000
END:DAYLIGHT
BEGIN:STANDARD
TZOFFSETFROM:+0200
TZOFFSETTO:+0100
TZNAME:CET
DTSTART:20251026T010000
END:STANDARD
END:VTIMEZONE
BEGIN:VEVENT
DTSTART;TZID=Europe/Berlin:20251211T100000
DTEND;TZID=Europe/Berlin:20251211T160000
DTSTAMP:20260424T113342
CREATED:20241104T093657Z
LAST-MODIFIED:20250331T154441Z
UID:10000143-1765447200-1765468800@fgma.de
SUMMARY:FGMA-Fortbildungsveranstaltung-online
DESCRIPTION:Fortbildungsveranstaltung\nfür die betrieblich verantwortliche Person im\nFachbetrieb nach WHG  \n„Anforderungen an Fachbetriebe in der metallbe-\nund –verarbeitenden Industrie“ \nUpdate und Erfahrungsaustausch\, Online-Seminar \nBeschreibung und Anmeldeformular 2025 Beschreibung Fortbildung
URL:https://fgma.de/event/fgma-fortbildungsveranstaltung-online-5/
END:VEVENT
END:VCALENDAR